View In:
ArcGIS JavaScript
ArcGIS Online Map Viewer
ArcGIS Earth
Service Description: Kigali_Image_Part2
Name: Kigali_Image_Part2
Description:
Single Fused Map Cache: false
Extent:
XMin: 30.051982559027245
YMin: -2.0855120971726397
XMax: 30.216370755213593
YMax: -1.7713693247696953
Spatial Reference: 4326
(4326)
Initial Extent:
XMin: 30.051982559027245
YMin: -2.0855120971726397
XMax: 30.216370755213593
YMax: -1.7713693247696953
Spatial Reference: 4326
(4326)
Full Extent:
XMin: 30.051982559027245
YMin: -2.0855120971726397
XMax: 30.216370755213593
YMax: -1.7713693247696953
Spatial Reference: 4326
(4326)
Pixel Size X: 4.638231369176339E-6
Pixel Size Y: 4.638231369176341E-6
Band Count: 3
Pixel Type: U8
RasterFunction Infos: {"rasterFunctionInfos": [{
"name": "None",
"description": "",
"help": ""
}]}
Mensuration Capabilities: Basic
Inspection Capabilities:
Has Histograms: true
Has Colormap: false
Has Multi Dimensions : false
Rendering Rule:
Min Scale: 0
Max Scale: 0
Copyright Text:
Service Data Type: esriImageServiceDataTypeRGB
Min Values: 0, 0, 0
Max Values: 255, 255, 255
Mean Values: 97.78015618062, 97.869883214985, 90.542392043104
Standard Deviation Values: 38.935950515745, 36.591615439678, 33.629937244883
Object ID Field:
Fields:
None
Default Mosaic Method: Center
Allowed Mosaic Methods:
SortField:
SortValue: null
Mosaic Operator: First
Default Compression Quality: 75
Default Resampling Method: Bilinear
Max Record Count: null
Max Image Height: 4100
Max Image Width: 15000
Max Download Image Count: null
Max Mosaic Image Count: null
Allow Raster Function: true
Allow Copy: true
Allow Analysis: true
Allow Compute TiePoints: false
Supports Statistics: false
Supports Advanced Queries: false
Use StandardizedQueries: true
Raster Type Infos:
Name: Raster Dataset
Description: Supports all ArcGIS Raster Datasets
Help:
Has Raster Attribute Table: false
Edit Fields Info: null
Ownership Based AccessControl For Rasters: null
Child Resources:
Info
Histograms
Statistics
Key Properties
Legend
Raster Function Infos
Supported Operations:
Export Image
Identify
Measure
Compute Histograms
Compute Statistics Histograms
Get Samples
Compute Class Statistics
Query Boundary
Compute Pixel Location
Compute Angles
Validate
Project